BEGIN:VCALENDAR
VERSION:2.0
PRODID:icalendar-ruby
CALSCALE:GREGORIAN
METHOD:PUBLISH
BEGIN:VEVENT
DTSTAMP:20260420T044033Z
UID:3-1710273@prairieview.church
DTSTART:20261025T150000Z
DTEND:20261025T170000Z
CLASS:PUBLIC
CREATED:20260419T213823
DESCRIPTION:This is our main service throughout the week.\nWe have worship 
 and a sermon every week. All are welcome!\nCoffee Connect with breakfast i
 tems 9:15-10:00 am\nService begins at 10:00 am
LAST-MODIFIED:20260419T213823
LOCATION:2200 2nd Ave NW\, Beulah\, ND 58523
SUMMARY:Sunday Service
URL;VALUE=URI:https://prairieview.church/events/sunday-service/2026-10-25
ATTACH;FILENAME=bible_crosses-19.jpg;FMTTYPE=image/jpeg:https://dq5pwpg1q8r
 u0.cloudfront.net/2021/12/22/11/02/28/f380eaf8-07df-41ab-9c77-36ecdd951fda
 /bible_crosses-19.jpg
END:VEVENT
END:VCALENDAR
