BEGIN:VCALENDAR
VERSION:2.0
PRODID:icalendar-ruby
CALSCALE:GREGORIAN
METHOD:PUBLISH
BEGIN:VEVENT
DTSTAMP:20260420T011443Z
UID:84-1709773@prairieview.church
DTSTART:20260923T000000Z
DTEND:20260923T010000Z
CLASS:PUBLIC
CREATED:20260419T175913
DESCRIPTION:Rise to Recovery or R2R is a recovery ministry for those dealin
 g with addictions of all kinds. This small group focuses on the New Testam
 ent to help with strategies and scripture to encourage a person to overcom
 e their challenges.\nThe ministry uses a book called "Serenity". Our group
  leaders will walk you through this process.\nR2R meets every Tuesday at 7
 :00 pm at the church beginning on March 3.
LAST-MODIFIED:20260419T175913
LOCATION:Door #1
SUMMARY:Rise to Recovery
URL;VALUE=URI:https://prairieview.church/events/rise-to-recovery/2026-09-22
ATTACH;FILENAME=R2R-Flyer.png;FMTTYPE=image/png:https://dq5pwpg1q8ru0.cloud
 front.net/2026/02/17/16/18/57/75b34ea2-8db1-4830-855a-1037228a9587/R2R-Fly
 er.png
END:VEVENT
END:VCALENDAR
